BEGIN:VCALENDAR
VERSION:2.0
PRODID:-//Performing Arts Studios - ECPv6.3.1//NONSGML v1.0//EN
CALSCALE:GREGORIAN
METHOD:PUBLISH
X-WR-CALNAME:Performing Arts Studios
X-ORIGINAL-URL:https://pa-studios.net
X-WR-CALDESC:Veranstaltungen für Performing Arts Studios
REFRESH-INTERVAL;VALUE=DURATION:PT1H
X-Robots-Tag:noindex
X-PUBLISHED-TTL:PT1H
BEGIN:VTIMEZONE
TZID:Europe/Berlin
BEGIN:DAYLIGHT
TZOFFSETFROM:+0100
TZOFFSETTO:+0200
TZNAME:CEST
DTSTART:20250330T010000
END:DAYLIGHT
BEGIN:STANDARD
TZOFFSETFROM:+0200
TZOFFSETTO:+0100
TZNAME:CET
DTSTART:20251026T010000
END:STANDARD
END:VTIMEZONE
BEGIN:VEVENT
DTSTART;VALUE=DATE:20250712
DTEND;VALUE=DATE:20250714
DTSTAMP:20260420T025251
CREATED:20250509T103407Z
LAST-MODIFIED:20250522T141227Z
UID:8891-1752278400-1752451199@pa-studios.net
SUMMARY:SKYBIRDS das Tanz-Musical
DESCRIPTION:Mit über 40 Tänzern der Performing Arts Studios\, 15 Hauptdarsteller und einem Team aus Choreografen\, Komponisten und Grafik-Designern erwecken wir gemeinsam unsere erste große Produktion zum Leben\, die mehr als nur ein ShowCase ist: \nSKYBIRDS\n“ Eine Show\, in der Theater auf Kino und Geschichtenerzählen auf Tanz trifft –\nund Träume zu fliegen beginnen …“\nby Andrea Pozzoli & Nunzio Lombardo \n–\nJeder ist herzlich eingeladen zuzuschauen: \nSamstag\, 12. Juli 2025\n@20:00 PREMIERE \nSonntag\, 13. Juli 2024\n@14:30 MATINEE\n@19:00 FINALE \nWir freuen uns auf einen magisches Ereignis!\nEure Anna & Nunzio\n(Studio Owners) \nTicket kaufen » \n!! Ab Sofort mit Sitzplatz-Wahl direkt im Ticket-Shop !!\nRückgabe von Tickets ist aus organisatorischen Gründen nicht möglich\,\nkönnen aber untereinander weitergegeben werden. \nDu erhältst deine Tickets per Mail – bitte dein Ticket am Einlass vorzeigen.\nEinlass erst 30min. vor Vorstellungsbeginn. \n„Vergünstigte Kindertickets ( bis 12 Jahre) ausschließlich für Sonntagnachmittag verfügbar.“\nKinder unter 3 Jahren brauchen kein Ticket. Bitte beachtet\, dass es sich dennoch um ein Erwachsenenprogramm handelt –\nda die Beiträge darstellerisch/inhaltlich nicht speziell für die Kleinen angepasst werden. \n  \n 
URL:https://pa-studios.net/event/skybirds-musical/
CATEGORIES:Featured Workshop,ShowCase,Tanz
ATTACH;FMTTYPE=image/png:https://pa-studios.net/wp-content/uploads/Skybrids-On-Stage-Project-2025.png
END:VEVENT
END:VCALENDAR