BEGIN:VCALENDAR
VERSION:2.0
PRODID:-//Performing Arts Studios - ECPv6.3.1//NONSGML v1.0//EN
CALSCALE:GREGORIAN
METHOD:PUBLISH
X-ORIGINAL-URL:https://pa-studios.net
X-WR-CALDESC:Veranstaltungen für Performing Arts Studios
REFRESH-INTERVAL;VALUE=DURATION:PT1H
X-Robots-Tag:noindex
X-PUBLISHED-TTL:PT1H
BEGIN:VTIMEZONE
TZID:Europe/Berlin
BEGIN:DAYLIGHT
TZOFFSETFROM:+0100
TZOFFSETTO:+0200
TZNAME:CEST
DTSTART:20250330T010000
END:DAYLIGHT
BEGIN:STANDARD
TZOFFSETFROM:+0200
TZOFFSETTO:+0100
TZNAME:CET
DTSTART:20251026T010000
END:STANDARD
END:VTIMEZONE
BEGIN:VEVENT
DTSTART;VALUE=DATE:20250926
DTEND;VALUE=DATE:20250929
DTSTAMP:20260424T221042
CREATED:20250828T101049Z
LAST-MODIFIED:20250925T111910Z
UID:9075-1758844800-1759103999@pa-studios.net
SUMMARY:Jazz Dance Weekend Intensive m. MALAYA (L.A.)
DESCRIPTION:Von Adv. Beginner bis Professional Dancers –\nL.A. Gastlehrer MALAYA in München!\nÜber das lange Wiesn‘-Wochenende 26.-28. September unterrichtet wieder MALAYA (aus Los Angeles\, USA) – täglich jeweils Beginner/Intermediate und Intermediate/Advanced in München: \n\n\n\n\nBeg/Int\nInt/Adv\n\n\nFREITAG 26.09.\n19:00 (sign-up)\n20:30 (sign-up)\n\n\nSAMSTAG 27.09.\n12:00 (sign-up)\n13:30 (sign-up)\n\n\nSONNTAG 28.09.\n11:30 (sign-up)\n13:00 (sign-up)\n\n\n\n__\nBEGRENZTE PLÄTZE – auf Grund von hoher Nachfrage bitte über den Stundenplan voranmelden! \n\n\n\nSingle Pass (90 min.)\n32€\n\n27€\n Profi*\n\n\nTripple (3x 90 min.)\n85€\n\n75€\n Profi*\n\n\nFull Pass (6x 90 min.)\n160€\n\n135€\n Profi*\n\n\n\n*Profi-Tarif : noch nicht bei uns als Profi registriert? Dann zeige uns einfach einen Nachweis direkt im Studio oder per Email!  \n  \n\nREGISTER HERE\n×Sign-Up \nPlease Sign-Up directly here: \nONLINE-TIMETABLE\n(simply jump to 26th-28th Sept)\nProfi-Tarif: du bist bei uns noch nicht Profi registriert? Dann schicke uns deine Unterlagen (Lebenslauf\, Ausbildungsnachweis u.ä.) per Email: info@pa-studios.net \nClose\n 
URL:https://pa-studios.net/event/jazz-dance-workshop-intensive-malaya-l-a/
CATEGORIES:Featured Workshop,Tanz
ATTACH;FMTTYPE=image/png:https://pa-studios.net/wp-content/uploads/Malaya-Workshop-2025.png
END:VEVENT
END:VCALENDAR