BEGIN:VCALENDAR
VERSION:2.0
PRODID:-//Performing Arts Studios - ECPv6.3.1//NONSGML v1.0//EN
CALSCALE:GREGORIAN
METHOD:PUBLISH
X-WR-CALNAME:Performing Arts Studios
X-ORIGINAL-URL:https://pa-studios.net
X-WR-CALDESC:Veranstaltungen für Performing Arts Studios
REFRESH-INTERVAL;VALUE=DURATION:PT1H
X-Robots-Tag:noindex
X-PUBLISHED-TTL:PT1H
BEGIN:VTIMEZONE
TZID:Europe/Berlin
BEGIN:DAYLIGHT
TZOFFSETFROM:+0100
TZOFFSETTO:+0200
TZNAME:CEST
DTSTART:20260329T010000
END:DAYLIGHT
BEGIN:STANDARD
TZOFFSETFROM:+0200
TZOFFSETTO:+0100
TZNAME:CET
DTSTART:20261025T010000
END:STANDARD
END:VTIMEZONE
BEGIN:VEVENT
DTSTART;VALUE=DATE:20260509
DTEND;VALUE=DATE:20260511
DTSTAMP:20260424T125326
CREATED:20170802T112724Z
LAST-MODIFIED:20260326T140854Z
UID:4410-1778284800-1778457599@pa-studios.net
SUMMARY:MasterClass m. Alex Frei
DESCRIPTION:Hot. Hot. Hot.\nTheatre Jazz MasterClass mit Alex Frei:\n„Präzision\, Eleganz\, Humor\, Intellekt\, Sinnlichkeit. SHOWBIZ par excellence!“\nDer Bob Fosse Tanzstil ist unbestritten die ‚Königsdiziplin‘ des großen Musical-Theatre-Jazz Dance – einfach ein MUSS für jeden Tänzer\, egal ob fortgeschrittener Hobbytänzer\, Tänzer in Ausbildung oder bereits erfahrener Profitänzer: Jeder lernt hier was dazu\, poliert seinen Style und nimmt neue Showbiz Eindrücke mit! \n\nWhat to expect ?\nSAMSTAG\, 9. Mai\n@ 16:30 – 18:30 Level II (120min.) \n+ SONNTAG\, 10. Mai\n@ 16:00 – 18:00 Level II (120min.) \nLevel:\nIntermediate Dancers and Dance Students. \nDress Code/sehr wichtig:\nenge\, schwarze Kleidung und für die Ladies unbedingt Dance Heels (keine Straßenschuhe) –\ntba/ggf. „take a HAT with you„\, das teilen wir dir noch mit (falls ja und du hast keinen Hut? Die berühmte Melone gibt’s schon ab 10€\, z.B. hier) 😉 \nPreise:\n65€ Standard | Profi* 55€\nnur auf Anfrage einzeln buchbar. \n**Reduzierte Preise für Profis und Tanz-Ausbildungsschüler!\nBook your ticket in studio or directly here. \n \nBOOK NOW\n\n  \nAlex Frei Biographie\n\n\nAlex Frei wurde in Locarno in der italienischen Schweiz geboren. Er erhielt seine professionelle Ausbildung in München bei Jutta Röthel\, an der Akademie der Künste in Amsterdam und an der Alvin Ailey School in New York.\n\nEr war als Solist bei Les Ballets Jazz de Montréal\, beim Ballett Augsburg sowie in der Tanzkompanie des Staatstheaters am Gärtnerplatz engagiert. Zudem war er Gastkünstler beim Béjart Ballet Lausanne. Er arbeitete mit zahlreichen Choreografen\, darunter Philip Taylor\, Blanca Li\, Carolyn Carlson\, Cayetano Soto\, Davide Bombana\, Christian Spuck\, Caroline Finn\, Aszure Barton und Crystal Pite. Darüber hinaus trat er in Stücken von Jiří Kylián\, Nacho Duato und Mauro Bigonzetti auf und war choreografischer Assistent für die Premiere von Davide Bombanas Mare Nostrum beim National Ballett in Sarajevo.\n\nZu seiner Musical-Laufbahn zählen die Produktionen 42nd Street\, Copacabana\, My Fair Lady\, Der Fiedler auf dem Dach\, Marilyn\, La Cage aux Folles\, Cats\, Cabaret\, Anything Goes\, Bodyguard\, Priscilla – Königin der Wüste und der Originalproduktion von Chicago in Deutschland sowie in Dänemark und Frankreich als “Spirit of Fosse” und als Assistant Dance Captain. Zudem war er als Resident Director bei der Europatournee von Flashdance tätig.\n\n\nAlex entdeckte schon in jungen Jahren eine große Leidenschaft für Choreographie und kreierte Tanzstücke während seiner gesamten Bühnenkarriere. Seine Choreographien wurden von der Tanzkompanie des Gärtnerplatz Theaters\, dem Augsburger Ballett und dem Geraldine Armstrong Dance Ensemble in Paris aufgeführt. In London hat er für das WAC Performing Arts College das Musical Once on This Islandchoreografiert. Er schuf Stücke für die Tanzakademie Bielefeld\, die Abraxas Musical Academy und die Theaterakademie August Everding in München. Zudem studierte er Ann Reinkings Original Choreographie des Musicals Chicago für den Studiengang Musical von Les Cours Florent in Paris ein.\n\nSeit 2000 unterrichtet er und als Gastlehrer bei verschiedenen Workshops wie Dance World Cup Spain\, Tanz Bozen\, Dance Workshop Paris\, beim Friedrichstadt-Palast in Berlin und an diversen Instituten\, u.a. Tring Park School for the Performing Arts und an der Theaterakademie August Everding – Studiengang Musical.\n\nSeit der Spielzeit 2020/2021 gehört er dem Staatstheater am Gärtnerplatz als choreografischer Mitarbeiter und Probenleiter an. 2021 schloss Alex sein Masterstudium in Opernregie an der Accademia dell’Opera di Verona ab. Kurz darauf assistierte er dem Bühnenregisseur und Staatsintendant Josef E. Köpplinger bei seiner Inszenierung von Die Fledermaus am Teatro del Maggio Musicale in Florenz und am Staatstheater am Gärtnerplatz.\n\nAls Choreograf entwickelte er u. a. die Musicals Die kleine Meerjungfrau am Theater in Kempten\, Next to Normal und La Cage Aux Folles an den Bühnen Bern\, die Oper Die Lustigen Weiber Von Windsor sowie die neue Operette Oh! Oh! Amelio am Gärtnerplatztheater\, das Musical Mozart! am Prinzregententheater in München und eine Folge der deutschen Fernsehserie Löwenzahn. Zuletzt choreografierte er die Originalproduktion von Aschenbrödels Traum an der Volksoper in Wien sowie Der Graf von Luxemburg und La Traviata am Gärtnerplatztheater in München.\n\n\nWebsite: alexfrei.de\nInstagram: @istalexfrei\n\n  \nFotos by Vreni Arbes. \n\n\n\n\n\n×Master Class m. Alex FreiOnline AnmeldungAnmeldung via E-MailOnline AnmeldungMelde dich hier direkt über deinen Eversports-Account an: \nBOOK ONLINE \n  \n.Anmeldung via E-Mail\n\n  \n\n\n\n\n\n\n\n\n\n\n\n\n\n\n\n×\nBetreff\n– Bitte auswählen –RegistrationFrage zur Master Class\n \n\n	Hiermit bitte ich euch mich verbindlich anzumelden für: MasterClass m. Alex Frei - Beide TageMasterClass m. Alex Frei - nur einen Tag auf Anfrage s.u.\nStandard RateProfessional Rate\n	 \n	\n		Yes\, I confirm that I am a professional dancer/student\n		 \n		\n			Professional Rate: Please provide us with proof of your CURRENT occupation. Students: please provide proof (enrollment) of your current full-time dance program.\n			 \n		\n	\n\nVor- und Zuname (Pflichtfeld)\n\n \nE-Mail-Adresse (Pflichtfeld)\n\n \nTelefonnummer\n\n \nDeine Nachricht\n\n \n×
URL:https://pa-studios.net/event/master-class-alex-frei/
CATEGORIES:Featured Workshop,Tanz
ATTACH;FMTTYPE=image/png:https://pa-studios.net/wp-content/uploads/Alex-Frei-Masterclass-Musical-Fosse-2026.png
END:VEVENT
BEGIN:VEVENT
DTSTART;TZID=Europe/Berlin:20260517T160000
DTEND;TZID=Europe/Berlin:20260517T201500
DTSTAMP:20260424T125326
CREATED:20240108T145048Z
LAST-MODIFIED:20260422T094619Z
UID:3287-1779033600-1779048900@pa-studios.net
SUMMARY:COMMERCIAL POPUP - Doly
DESCRIPTION:„COMMERCIAL POPUP“ by Doly Dujak\nGib‘ dir den „Push for the Next Level“\, denn Doly’s PopUP verspricht dir zwei back-to-back 2h Classes\, die dich körperlich\, geistig und tänzerisch herausfordern werden – sei dabei !! \nSonntag\, 17. MAI\n16:00-18:00 beginner/int. \n18:15-20:15 int/advance \nNo outside shoes (bring the clean shoes) \nPrice: 45€ both\, 25€ one \nLtd. Spots to 30 \nTICKETS \n  \n\n\n\n\n. \n\n\n\n\n\n\n\n\n×Urban Dance m. Tony Stone\nOnline (Paypal / Sofortüberweisung)Per EmailOnline (Paypal / Sofortüberweisung) \nBuche über unser online System powered by Eversport – du brauchst dich nur einzuloggen und schon bist du in deinem Kundenkonto bei uns:\nBook NOW \n  \n.Per Email\n\n  \n\n\n\n\n\n\n\n\n\n\n\n\n\n\n\n×\nTICKETS\n\nHiermit möchte ich folgendes Ticket buchen:\nFULL-DAY PASS (all 2 classes) - 45€SINGLE PASS (beg/int) - 25€SINGLE PASS (int/adv) - 25€\n \n***\n \nVor- und Zuname (Pflichtfeld)\n\n \nE-Mail-Adresse (Pflichtfeld)\n\n \nDeine Nachricht\n\n \n×\n\n \n\n\n\n\n  \n\n 
URL:https://pa-studios.net/event/popup/
CATEGORIES:Featured Workshop,Tanz
ATTACH;FMTTYPE=image/png:https://pa-studios.net/wp-content/uploads/Commercial-Dance-Class-Doly-2026.png
ORGANIZER;CN="PAS Team":MAILTO:info@pa-studios.net
END:VEVENT
BEGIN:VEVENT
DTSTART;VALUE=DATE:20260530
DTEND;VALUE=DATE:20260601
DTSTAMP:20260424T125326
CREATED:20240301T092936Z
LAST-MODIFIED:20260422T092628Z
UID:3593-1780099200-1780271999@pa-studios.net
SUMMARY:Modern Dance m. Roberta Fontana
DESCRIPTION:Modern Dance Workshop\nRoberta Fontana (ROM)\n30/31 Mai 2026\nproud to have Roberta Fontana teaching in Munich again –\nRoberta’s amazing Modern Choreography Classes will be open for everyone to join: \nwarmup and technical preparation\, diagonals for modern technique and of course a choreo part is a full dynamic work “on music” following harmony and capturing moments of deep emotions.\n \nSAMSTAG\, 30. Mai\n@ 16:30 – 18:30 int/adv (120min.) \nSONNTAG\, 31. Mai\n@ 16:00 – 18:00 int/adv (120min.) \nPreise:\n65€ Standard | Profi* 55€ \n**Reduzierte Preise für Profis und Tanz-Ausbildungsschüler!\nBook your ticket in studio or directly here. \n\nQUESTION? | BOOK NOW! \nAbout Roberta Fontana’s Modern Class\n\n\n\nRoberta unterrichtet Modern Dance für professionelle Tänzer in ganz Europa (u.a. Rom\, Paris\, Madrid\, London\, Zürich) und ist eine der erfolgreichsten Modern-Dance-Dozentinnen in Europa mit mittlerweile über 24 Tsd. Followern. Die musikalische Interpretation ist die Essenz ihres Tanzstils. Roberta verleiht ihren Choreografien umwerfende Dynamik\, Technik und Ausdruck. \nModern class starts with a main total warm up\, starting from the back\, then isolations\, pliees and muscolar stretching.\nAfter a complete technical preparation follow diagonals for dynamic movement and modern technique studying with bases derived from ballet. The choreographic part is a full dynamic work\, praticing body off-axis and off-balance\, fast changes of directions and ampleness of movements\, everything strictly “on music”\, following harmony and expression\, catching the beats\, capturing moments full of deep emotions. Website: www.robertafontana.it | on Instagram @robertafontana \n\n\n\n\n \n  \n\n\n×Modern Dance WorkshopOnline AnmeldungAnmeldung via E-MailOnline AnmeldungMelde dich hier direkt über deinen Eversports-Account an: \nBOOK ONLINE \n  \n.Anmeldung via E-Mail\n\n  \n\n\n\n\n\n\n\n\n\n\n\n\n\n\n\n×\nWhat would you like to do?\n– Bitte auswählen –Book a TicketFrage zum Workshop\n \n\n	Hiermit bitte ich euch mich verbindlich anzumelden für: \nRoberta Fontana - SATURDAY PASSRoberta Fontana - SUNDAY PASSRoberta Fontana - FULL PASS (both days)\n_\nStandard RateProfessional Rate\n	 \n	\n		Yes\, I confirm that I am a professional dancer/student\n		 \n		\n			Professional Rate: Please provide us with proof of your CURRENT occupation. Students: please provide proof (enrollment) of your current full-time dance program.\n			 \n		\n	\n\nVor- und Zuname (Pflichtfeld)\n\n \nE-Mail-Adresse (Pflichtfeld)\n\n \nDeine Nachricht\n\n \n×
URL:https://pa-studios.net/event/modern-dance-m-roberta-fontana/
CATEGORIES:Featured Workshop,Tanz
ATTACH;FMTTYPE=image/png:https://pa-studios.net/wp-content/uploads/Modern-Dance-Workshop-Roberta-Fontana.png
END:VEVENT
BEGIN:VEVENT
DTSTART;VALUE=DATE:20260606
DTEND;VALUE=DATE:20260608
DTSTAMP:20260424T125326
CREATED:20240301T114552Z
LAST-MODIFIED:20260422T092733Z
UID:8252-1780704000-1780876799@pa-studios.net
SUMMARY:Floorwork m. Spencer Dennis
DESCRIPTION:Contemporary Floorwork\nwith Spencer Dennis (Phoenix\, Arizona)\nWith over 110 Tsd. Followers on Instagram Spencer Dennis is well-known for his Floorwork Art –\n \nSpencer’s class explores the integration of diverse movement practices including yoga\, soft acrobatics\, and contemporary floorwork while connecting his teaching to the actions and movements of everyday life. He believes that every body has inherent power which can be utilized and explored without the need for years of conventional dance\, yoga\, or fitness training. It is Spencer’s goal to empower students to embrace what their body is currently capable of and encourage the exploration of how their body moves naturally. \nIn his class you can expect discussion on movement efficiency\, practice of floorwork concepts\, and the study and execution of contemporary phrase work which incorporates the information explored in class. Spencer is humbled and honored to have the opportunity to share his work and study with you all \nThe INTENSIVE is suitable for all dancers wishing to develop their floor work experience: \nSAMSTAG\, 06. Juni:\n@ 16:30 – 20:15\n3\,5h (+ 15min. break) \n!! FOR OPTIMUM SPACING – ONLY 20 SPACES !! \nPreise:\n50€ Standard | Profi* 45€ \n**Reduzierte Preise für Profis und Tanz-Ausbildungsschüler!\nBook your ticket in studio or directly here. \n \nBOOK NOW\n\n  \nSpencer Dennis Biographie\n\n\nSpencer Dennis is a dancer and movement practitioner from Phoenix\, Arizona. Spencer’s teaching explores the integration of diverse movement practices including yoga\, soft acrobatics\, modern dance\, and contemporary floorwork while connecting his teaching to the actions and movements of everyday life. He has danced for several companies in the United States including CONDER|Dance\, Groundworks Dance Theater\, Hawkins Dance\, The Difference Between\, and Soulescape. He has most recently been presenting original solo works in the American Southwest. He has been twice awarded as an Arizona Artist of Promise for both his choreography and performance. Spencer is currently adjunct faculty at both Arizona State University and Scottsdale Community College and a faculty member with Revive Dance Convention. In 2024 Spencer will be traveling to share his work internationally in Cuba\, Peru\, Spain\, Germany\, and more. \n\nInstagram: @spencerdennis_mvmnt\n\n \n\n\n×Floorwork with Spencer Dennis \nOnlineAnmeldung via E-MailOnline \nBuche über unser online System powered by Eversport – du brauchst dich nur einzuloggen und schon bist du in deinem Kundenkonto bei uns:\nBOOK ONLINE \n.Anmeldung via E-Mail\n\n  \n\n\n\n\n\n\n\n\n\n\n\n\n\n\n\n×\nWhat would you like to do?\n– Bitte auswählen –BOOK A TICKETFrage zur Workshop Class\n \n\n	Ticket: INTENSIVE PASS 50€PRO PASS 45€\n	 \n	\n		Yes\, I confirm that I am a professional dancer/student\n		 \n		\n			Professional Rate: Please provide us with proof of your CURRENT occupation. Students: please provide proof (enrollment) of your current full-time dance program.\n			 \n		\n		\n		 \n	\n\nVor- und Zuname (Pflichtfeld)\n\n \nE-Mail-Adresse (Pflichtfeld)\n\n \nDeine Nachricht\n\n \n×
URL:https://pa-studios.net/event/floorwork-spencer-dennis/
CATEGORIES:Featured Workshop,Tanz
ATTACH;FMTTYPE=image/png:https://pa-studios.net/wp-content/uploads/Floorwork-Dance-Workshop-Spencer-Dennis.png
END:VEVENT
BEGIN:VEVENT
DTSTART;VALUE=DATE:20260904
DTEND;VALUE=DATE:20260915
DTSTAMP:20260424T125326
CREATED:20161221T143142Z
LAST-MODIFIED:20260108T144903Z
UID:3395-1788480000-1789430399@pa-studios.net
SUMMARY:Tanzurlaub in Griechenland 2026
DESCRIPTION:BALLETT\, JAZZ DANCE & HIPHOP SUMMER\n– dein ultimativer Tanzurlaub –\n4-14 SEPTEMBER 2026\nUrlaub und Workshop bieten die perfekte Symbiose für alle Tanzbegeisterte. Denn hier erlebst du tägliches Jazztanztraining\, Ballett\, HipHop und Choreographie!  \nQualitativ hochwertiger Unterricht auf hohem Niveau für geübte Anfänger bis Fortgeschrittene in entspannter Atmosphäre. \n\n\nDieser Urlaubsort ist voller Magie: \nDer Workshop findet in einer wunderschönen\, idyllischen Anlage statt – vom Tanzstudio mit Blick aufs Meer geht’s direkt an den Pool oder Strand. Ein ganz besonderes Urlaubserlebnis für alle Tanzbegeisterten!  \nmit\nDozenten der Performing Arts Studios Munich\nNUNZIO\, ANNA\, THIERRY und SYLVIE\n„Trainiere so viel du wills“\nAdv. Beginner bis Int./Advanced Classes \nFrühbucher-Preise bis 28.02.2026 erhältlich! \nInfos & Anmeldung auf pisa.gr\n\nNunzio \nJazz Dance für Fortgeschrittene & Choreography für alle Levels \nThierry \nBallett für erfahrene Anfänger & Fortgeschrittene & FloorBarre \nAnna \nJazz Dance für erfahrene Anfänger \nSylvie \nHip Hop für Fortgeschrittene & DaJAM® Urban Stlyez für alle Levels \n\nInfos & Anmeldung auf pisa.gr
URL:https://pa-studios.net/event/tanz-urlaub-in-griechenland/
LOCATION:Leda Resort\, Horto Leda Resort\, Griechenland
CATEGORIES:Featured Workshop,Tanzurlaub
ATTACH;FMTTYPE=image/png:https://pa-studios.net/wp-content/uploads/Summer-Dance-Camp-Workshop.png
ORGANIZER;CN="Petra Nowak":MAILTO: info@pisa.gr
END:VEVENT
END:VCALENDAR