BEGIN:VCALENDAR
VERSION:2.0
PRODID:-//Performing Arts Studios - ECPv6.3.1//NONSGML v1.0//EN
CALSCALE:GREGORIAN
METHOD:PUBLISH
X-ORIGINAL-URL:https://pa-studios.net
X-WR-CALDESC:Veranstaltungen für Performing Arts Studios
REFRESH-INTERVAL;VALUE=DURATION:PT1H
X-Robots-Tag:noindex
X-PUBLISHED-TTL:PT1H
BEGIN:VTIMEZONE
TZID:Europe/Berlin
BEGIN:DAYLIGHT
TZOFFSETFROM:+0100
TZOFFSETTO:+0200
TZNAME:CEST
DTSTART:20250330T010000
END:DAYLIGHT
BEGIN:STANDARD
TZOFFSETFROM:+0200
TZOFFSETTO:+0100
TZNAME:CET
DTSTART:20251026T010000
END:STANDARD
END:VTIMEZONE
BEGIN:VEVENT
DTSTART;VALUE=DATE:20250802
DTEND;VALUE=DATE:20250811
DTSTAMP:20260424T183018
CREATED:20240411T123120Z
LAST-MODIFIED:20250717T150852Z
UID:8441-1754092800-1754870399@pa-studios.net
SUMMARY:Summer Dance Intensive
DESCRIPTION:#02 INTERNATIONAL\nSUMMER DANCE PROGRAM\nDas hat es noch nie gegeben! Unser einzigartiges Jazz Dance Sommer Intensivprogramm bringt dir nicht nur 1 oder 2… nein\, gleich DREI der top-internationalen Tanzlehrer aus L.A. direkt nach München: \nTERRI BEST\, ADAM PARSON & MALAYA \nsind gemeinsam hier und unterrichten hintereinander weg –\nerlebe ein Feuerwerk an „Best of Lyrical & Jazz“\, himmlischen Choreographien und Energie! \nEs warten drei Workshop-Formate auf dich – neben vielen OPEN CLASSES am Wochenende und Abend gibt es noch 2 INTENSIVES. Hier trainierst du Montags-Freitag tagsüber mit 2-3 Trainingseinheiten am Block und begrenzter Teilnehmerzahl für ein besonders intensives Tanzerlebnis: \nADVANCED INTENSIVE \nMon – Fri @ 11:30-16:30\nadvanced\njeweils 3 Klassen \nWartelisteBEGINNER PROGRAM \nMon – Fri @ 13:15-16:30\nbeginner\njeweils 2 Klassen \nLast SpotsOPEN LEVEL CLASSES \nWeekend & Evenings\nint./adv.\nflexibel buchbar \nSign-Up here\nAlle Workshops sind geeignet als Fortbildung für TänzerInnen und TanzpädagogInnen\, als Vorbereitung auf eine Tanzausbildung\, und natürlich auch für alle tanzbegeisterte Erwachsene und Jugendliche ab 15 Jahren. \n \nMORE on SUMMER DANCE INTENSIVE\n\n 
URL:https://pa-studios.net/event/summer-dance-intensive/
CATEGORIES:Featured Workshop,Tanz,Tanzurlaub
ATTACH;FMTTYPE=image/png:https://pa-studios.net/wp-content/uploads/Jazz-Dance-Summer-Intensive-2025.png
END:VEVENT
END:VCALENDAR